BEGIN:VCALENDAR
VERSION:2.0
PRODID:-//SVP Luzern //NONSGML Events //EN
CALSCALE:GREGORIAN
X-WR-CALNAME:SVP Luzern
BEGIN:VEVENT
CREATED:20190112T055403Z
UID:10873
DTEND:20190629T170000
DTSTART:20190629T080000
DTSTAMP:20231024T055127Z
LOCATION:
DESCRIPTION:
SUMMARY:Eidg. Delegiertenversammlung
ORGANIZER:SVP CH
URL;VALUE=URI:https://www.svp-lu.ch/termine/eidg-delegiertenversammlung-3/
TRANSP:OPAQUE
END:VEVENT
END:VCALENDAR
