BEGIN:VCALENDAR
VERSION:2.0
PRODID:-//SVP Luzern //NONSGML Events //EN
CALSCALE:GREGORIAN
X-WR-CALNAME:SVP Luzern
BEGIN:VEVENT
CREATED:20190112T055403Z
UID:10875
DTEND:20190818T000000
DTSTART:20190706T000000
DTSTAMP:20231024T060243Z
LOCATION:
DESCRIPTION:Sommerferien
SUMMARY:Schulferien Kanton Luzern
ORGANIZER:Ferien
URL;VALUE=URI:https://www.svp-lu.ch/termine/schulferien-kanton-luzern-6/
TRANSP:OPAQUE
END:VEVENT
END:VCALENDAR
