BEGIN:VCALENDAR
VERSION:2.0
PRODID:-//SVP Luzern //NONSGML Events //EN
CALSCALE:GREGORIAN
X-WR-CALNAME:SVP Luzern
BEGIN:VEVENT
CREATED:20190112T055403Z
UID:10877
DTEND:20190809T000000
DTSTART:20190809T000000
DTSTAMP:20231024T054933Z
LOCATION:offen
DESCRIPTION:
SUMMARY:GV SVP International
ORGANIZER:SVP CH
URL;VALUE=URI:https://www.svp-lu.ch/termine/gv-svp-international/
TRANSP:OPAQUE
END:VEVENT
END:VCALENDAR
