BEGIN:VCALENDAR
VERSION:2.0
PRODID:-//SVP Luzern //NONSGML Events //EN
CALSCALE:GREGORIAN
X-WR-CALNAME:SVP Luzern
BEGIN:VEVENT
CREATED:20190112T055403Z
UID:10878
DTEND:20190811T000000
DTSTART:20190809T000000
DTSTAMP:20231024T055121Z
LOCATION:Visp
DESCRIPTION:
SUMMARY:Auslandschweizer-Kongress
ORGANIZER:SVP CH
URL;VALUE=URI:https://www.svp-lu.ch/termine/auslandschweizer-kongress/
TRANSP:OPAQUE
END:VEVENT
END:VCALENDAR
