BEGIN:VCALENDAR
VERSION:2.0
PRODID:-//SVP Luzern //NONSGML Events //EN
CALSCALE:GREGORIAN
X-WR-CALNAME:SVP Luzern
BEGIN:VEVENT
CREATED:20190112T055404Z
UID:10879
DTEND:20190815T000000
DTSTART:20190815T000000
DTSTAMP:20231024T055810Z
LOCATION:
DESCRIPTION:
SUMMARY:Mariä Himmelfahrt
ORGANIZER:Feiertag
URL;VALUE=URI:https://www.svp-lu.ch/termine/mariae-himmelfahrt/
TRANSP:OPAQUE
END:VEVENT
END:VCALENDAR
