BEGIN:VCALENDAR
VERSION:2.0
PRODID:-//SVP Luzern //NONSGML Events //EN
CALSCALE:GREGORIAN
X-WR-CALNAME:SVP Luzern
BEGIN:VEVENT
CREATED:20190112T055404Z
UID:10880
DTEND:20190822T220000
DTSTART:20190822T193000
DTSTAMP:20231024T055457Z
LOCATION:Rest. Vogelsang Eich
DESCRIPTION:Abend
SUMMARY:Sitzung Parteileitung 2019/08
ORGANIZER:SVP LU
URL;VALUE=URI:https://www.svp-lu.ch/termine/sitzung-parteileitung-2019-08/
TRANSP:OPAQUE
END:VEVENT
END:VCALENDAR
