BEGIN:VCALENDAR
VERSION:2.0
PRODID:-//SVP Luzern //NONSGML Events //EN
CALSCALE:GREGORIAN
X-WR-CALNAME:SVP Luzern
BEGIN:VEVENT
CREATED:20190112T055404Z
UID:10881
DTEND:20190826T000000
DTSTART:20190826T000000
DTSTAMP:20231024T055044Z
LOCATION:
DESCRIPTION:
SUMMARY:Versand „SVP Kurier“ Grossauflage
ORGANIZER:SVP LU
URL;VALUE=URI:https://www.svp-lu.ch/termine/versand-svp-kurier-grossauflage/
TRANSP:OPAQUE
END:VEVENT
END:VCALENDAR
