BEGIN:VCALENDAR
VERSION:2.0
PRODID:-//SVP Luzern //NONSGML Events //EN
CALSCALE:GREGORIAN
X-WR-CALNAME:SVP Luzern
BEGIN:VEVENT
CREATED:20190112T055404Z
UID:10882
DTEND:20190830T190000
DTSTART:20190830T140000
DTSTAMP:20231024T055141Z
LOCATION:
DESCRIPTION:Nachmittag
SUMMARY:Parteileitung/Parteivorstand mit Sekretären
ORGANIZER:SVP CH
URL;VALUE=URI:https://www.svp-lu.ch/termine/parteileitung-parteivorstand-mit-sekretaeren-5/
TRANSP:OPAQUE
END:VEVENT
END:VCALENDAR
