BEGIN:VCALENDAR
VERSION:2.0
PRODID:-//SVP Luzern //NONSGML Events //EN
CALSCALE:GREGORIAN
X-WR-CALNAME:SVP Luzern
BEGIN:VEVENT
CREATED:20190112T055404Z
UID:10884
DTEND:20190904T190000
DTSTART:20190904T140000
DTSTAMP:20231024T055754Z
LOCATION:Business Park Litauerboden 1 6014 Luzern
DESCRIPTION:Nachmittag
SUMMARY:Kant. Fraktionssitzung
ORGANIZER:WK Luzern Stadt
URL;VALUE=URI:https://www.svp-lu.ch/termine/kant-fraktionssitzung-5/
TRANSP:OPAQUE
END:VEVENT
END:VCALENDAR
