BEGIN:VCALENDAR
VERSION:2.0
PRODID:-//SVP Luzern //NONSGML Events //EN
CALSCALE:GREGORIAN
X-WR-CALNAME:SVP Luzern
BEGIN:VEVENT
CREATED:20190112T055404Z
UID:10885
DTEND:20190905T220000
DTSTART:20190905T180000
DTSTAMP:20231024T060207Z
LOCATION:
DESCRIPTION:Abend
SUMMARY:Grossstadtratssitzung Luzern
ORGANIZER:
URL;VALUE=URI:https://www.svp-lu.ch/termine/grossstadtratssitzung-luzern-8/
TRANSP:OPAQUE
END:VEVENT
END:VCALENDAR
