BEGIN:VCALENDAR
VERSION:2.0
PRODID:-//SVP Luzern //NONSGML Events //EN
CALSCALE:GREGORIAN
X-WR-CALNAME:SVP Luzern
BEGIN:VEVENT
CREATED:20190112T055404Z
UID:10886
DTEND:20190906T220000
DTSTART:20190906T180000
DTSTAMP:20231024T060307Z
LOCATION:Sempach
DESCRIPTION:
SUMMARY:Sempachertag (Traditioneller Parteianlass)
ORGANIZER:SVP LU
URL;VALUE=URI:https://www.svp-lu.ch/termine/sempachertag-traditioneller-parteianlass/
TRANSP:OPAQUE
END:VEVENT
END:VCALENDAR
