BEGIN:VCALENDAR
VERSION:2.0
PRODID:-//SVP Luzern //NONSGML Events //EN
CALSCALE:GREGORIAN
X-WR-CALNAME:SVP Luzern
BEGIN:VEVENT
CREATED:20190112T055404Z
UID:10888
DTEND:20190910T000000
DTSTART:20190909T000000
DTSTAMP:20231024T054917Z
LOCATION:Luzern
DESCRIPTION:
SUMMARY:Session Kantonsrat
ORGANIZER:SVP LU
URL;VALUE=URI:https://www.svp-lu.ch/termine/session-kantonsrat-7/
TRANSP:OPAQUE
END:VEVENT
END:VCALENDAR
