BEGIN:VCALENDAR
VERSION:2.0
PRODID:-//SVP Luzern //NONSGML Events //EN
CALSCALE:GREGORIAN
X-WR-CALNAME:SVP Luzern
BEGIN:VEVENT
CREATED:20190112T055404Z
UID:10890
DTEND:20190910T190000
DTSTART:20190910T140000
DTSTAMP:20231024T055322Z
LOCATION:Bern
DESCRIPTION:Nachmittag
SUMMARY:Fraktionsvorstand/Fraktionssitzung
ORGANIZER:SVP CH
URL;VALUE=URI:https://www.svp-lu.ch/termine/fraktionsvorstand-fraktionssitzung-5/
TRANSP:OPAQUE
END:VEVENT
END:VCALENDAR
