BEGIN:VCALENDAR
VERSION:2.0
PRODID:-//SVP Luzern //NONSGML Events //EN
CALSCALE:GREGORIAN
X-WR-CALNAME:SVP Luzern
BEGIN:VEVENT
CREATED:20190112T055404Z
UID:10891
DTEND:20190912T000000
DTSTART:20190912T000000
DTSTAMP:20231024T054934Z
LOCATION:
DESCRIPTION:Die Delegiertenversammlung vom 12. September  findet nicht statt!
SUMMARY:Abgesagt! Kant. Delegiertenversammlung
ORGANIZER:SVP LU
URL;VALUE=URI:https://www.svp-lu.ch/termine/kant-delegiertenversammlung-5/
TRANSP:OPAQUE
END:VEVENT
END:VCALENDAR
