BEGIN:VCALENDAR
VERSION:2.0
PRODID:-//SVP Luzern //NONSGML Events //EN
CALSCALE:GREGORIAN
X-WR-CALNAME:SVP Luzern
BEGIN:VEVENT
CREATED:20190112T055405Z
UID:10892
DTEND:20190915T000000
DTSTART:20190915T000000
DTSTAMP:20231024T055924Z
LOCATION:
DESCRIPTION:
SUMMARY:Eidg. Buss- und Bettag
ORGANIZER:Feiertag
URL;VALUE=URI:https://www.svp-lu.ch/termine/eidg-buss-und-bettag/
TRANSP:OPAQUE
END:VEVENT
END:VCALENDAR
