BEGIN:VCALENDAR
VERSION:2.0
PRODID:-//SVP Luzern //NONSGML Events //EN
CALSCALE:GREGORIAN
X-WR-CALNAME:SVP Luzern
BEGIN:VEVENT
CREATED:20190112T055405Z
UID:10893
DTEND:20190916T000000
DTSTART:20190916T000000
DTSTAMP:20231024T055519Z
LOCATION:Luzern
DESCRIPTION:
SUMMARY:Session Kantonsrat
ORGANIZER:SVP LU
URL;VALUE=URI:https://www.svp-lu.ch/termine/session-kantonsrat-8/
TRANSP:OPAQUE
END:VEVENT
END:VCALENDAR
