BEGIN:VCALENDAR
VERSION:2.0
PRODID:-//SVP Luzern //NONSGML Events //EN
CALSCALE:GREGORIAN
X-WR-CALNAME:SVP Luzern
BEGIN:VEVENT
CREATED:20190112T055405Z
UID:10894
DTEND:20190917T220000
DTSTART:20190917T180000
DTSTAMP:20231024T060332Z
LOCATION:Bern
DESCRIPTION:Abend
SUMMARY:Parteileitung
ORGANIZER:SVP CH
URL;VALUE=URI:https://www.svp-lu.ch/termine/parteileitung-2/
TRANSP:OPAQUE
END:VEVENT
END:VCALENDAR
