BEGIN:VCALENDAR
VERSION:2.0
PRODID:-//SVP Luzern //NONSGML Events //EN
CALSCALE:GREGORIAN
X-WR-CALNAME:SVP Luzern
BEGIN:VEVENT
CREATED:20190112T055405Z
UID:10896
DTEND:20190919T220000
DTSTART:20190919T193000
DTSTAMP:20231024T055302Z
LOCATION:Rest. Vogelsang Eich
DESCRIPTION:Diese PL wird ersatzlos gestrichen
SUMMARY:Sitzung Parteileitung 2019/09 findet nicht statt
ORGANIZER:SVP LU
URL;VALUE=URI:https://www.svp-lu.ch/termine/sitzung-parteileitung-2019-09/
TRANSP:OPAQUE
END:VEVENT
END:VCALENDAR
