BEGIN:VCALENDAR
VERSION:2.0
PRODID:-//SVP Luzern //NONSGML Events //EN
CALSCALE:GREGORIAN
X-WR-CALNAME:SVP Luzern
BEGIN:VEVENT
CREATED:20190112T055405Z
UID:10897
DTEND:20190923T000000
DTSTART:20190923T000000
DTSTAMP:20231024T055711Z
LOCATION:
DESCRIPTION:
SUMMARY:Redaktionsschluss „SVP Kurier“
ORGANIZER:SVP LU
URL;VALUE=URI:https://www.svp-lu.ch/termine/redaktionsschluss-svp-kurier/
TRANSP:OPAQUE
END:VEVENT
END:VCALENDAR
