BEGIN:VCALENDAR
VERSION:2.0
PRODID:-//SVP Luzern //NONSGML Events //EN
CALSCALE:GREGORIAN
X-WR-CALNAME:SVP Luzern
BEGIN:VEVENT
CREATED:20190112T055405Z
UID:10898
DTEND:20190926T220000
DTSTART:20190926T180000
DTSTAMP:20231024T055559Z
LOCATION:Aula SH Zentrum
DESCRIPTION:Abend
SUMMARY:Einwohnerratsstizung Horw
ORGANIZER:
URL;VALUE=URI:https://www.svp-lu.ch/termine/einwohnerratsstizung-horw-7/
TRANSP:OPAQUE
END:VEVENT
END:VCALENDAR
