BEGIN:VCALENDAR
VERSION:2.0
PRODID:-//SVP Luzern //NONSGML Events //EN
CALSCALE:GREGORIAN
X-WR-CALNAME:SVP Luzern
BEGIN:VEVENT
CREATED:20190112T055405Z
UID:10899
DTEND:20191013T000000
DTSTART:20190928T000000
DTSTAMP:20231024T055440Z
LOCATION:
DESCRIPTION:Herbstferien
SUMMARY:Schulferien Kanton Luzern
ORGANIZER:Ferien
URL;VALUE=URI:https://www.svp-lu.ch/termine/schulferien-kanton-luzern-7/
TRANSP:OPAQUE
END:VEVENT
END:VCALENDAR
