BEGIN:VCALENDAR
VERSION:2.0
PRODID:-//SVP Luzern //NONSGML Events //EN
CALSCALE:GREGORIAN
X-WR-CALNAME:SVP Luzern
BEGIN:VEVENT
CREATED:20190112T055405Z
UID:10900
DTEND:20191010T220000
DTSTART:20191010T194500
DTSTAMP:20231024T055431Z
LOCATION:Kriens\, Kulturquadrat Schappe
DESCRIPTION: [gravityform id="12" title="true" description="true"] Einladung OPP-K
SUMMARY:Ortsparteipräsidentenkonferenz inkl. Parteileitung
ORGANIZER:SVP LU
URL;VALUE=URI:https://www.svp-lu.ch/termine/ortsparteipraesidentenkonferenz-inkl-parteileitung/
TRANSP:OPAQUE
END:VEVENT
END:VCALENDAR
