BEGIN:VCALENDAR
VERSION:2.0
PRODID:-//SVP Luzern //NONSGML Events //EN
CALSCALE:GREGORIAN
X-WR-CALNAME:SVP Luzern
BEGIN:VEVENT
CREATED:20190112T055405Z
UID:10901
DTEND:20191016T190000
DTSTART:20191016T140000
DTSTAMP:20231024T060326Z
LOCATION:Schenkon\, Klassenzimmer am Dorfplatz
DESCRIPTION:"Klassenzimmer" in Schenkon
SUMMARY:Kant. Fraktionssitzung
ORGANIZER:SVP LU
URL;VALUE=URI:https://www.svp-lu.ch/termine/kant-fraktionssitzung-6/
TRANSP:OPAQUE
END:VEVENT
END:VCALENDAR
