BEGIN:VCALENDAR
VERSION:2.0
PRODID:-//SVP Luzern //NONSGML Events //EN
CALSCALE:GREGORIAN
X-WR-CALNAME:SVP Luzern
BEGIN:VEVENT
CREATED:20190112T055405Z
UID:10902
DTEND:20191017T220000
DTSTART:20191017T193000
DTSTAMP:20231024T054938Z
LOCATION:Rest. Vogelsang Eich
DESCRIPTION:Abend
SUMMARY:Sitzung Parteileitung 2019/10
ORGANIZER:SVP LU
URL;VALUE=URI:https://www.svp-lu.ch/termine/sitzung-parteileitung-2019-10/
TRANSP:OPAQUE
END:VEVENT
END:VCALENDAR
