BEGIN:VCALENDAR
VERSION:2.0
PRODID:-//SVP Luzern //NONSGML Events //EN
CALSCALE:GREGORIAN
X-WR-CALNAME:SVP Luzern
BEGIN:VEVENT
CREATED:20190112T055405Z
UID:10903
DTEND:20191020T000000
DTSTART:20191020T000000
DTSTAMP:20231024T055212Z
LOCATION:
DESCRIPTION:
SUMMARY:Eidg. und Kant. Abstimmungen
ORGANIZER:Abstimmungen
URL;VALUE=URI:https://www.svp-lu.ch/termine/eidg-und-kant-abstimmungen-4/
TRANSP:OPAQUE
END:VEVENT
END:VCALENDAR
