BEGIN:VCALENDAR
VERSION:2.0
PRODID:-//SVP Luzern //NONSGML Events //EN
CALSCALE:GREGORIAN
X-WR-CALNAME:SVP Luzern
BEGIN:VEVENT
CREATED:20190112T055405Z
UID:10904
DTEND:20191022T000000
DTSTART:20191021T000000
DTSTAMP:20231024T055045Z
LOCATION:Luzern
DESCRIPTION:
SUMMARY:Session Kantonsrat
ORGANIZER:SVP LU
URL;VALUE=URI:https://www.svp-lu.ch/termine/session-kantonsrat-9/
TRANSP:OPAQUE
END:VEVENT
END:VCALENDAR
