BEGIN:VCALENDAR
VERSION:2.0
PRODID:-//SVP Luzern //NONSGML Events //EN
CALSCALE:GREGORIAN
X-WR-CALNAME:SVP Luzern
BEGIN:VEVENT
CREATED:20190112T055405Z
UID:10905
DTEND:20191024T220000
DTSTART:20191024T180000
DTSTAMP:20231024T055040Z
LOCATION:
DESCRIPTION:Abend
SUMMARY:Grossstadtratssitzung Luzern
ORGANIZER:
URL;VALUE=URI:https://www.svp-lu.ch/termine/grossstadtratssitzung-luzern-10/
TRANSP:OPAQUE
END:VEVENT
END:VCALENDAR
