BEGIN:VCALENDAR
VERSION:2.0
PRODID:-//SVP Luzern //NONSGML Events //EN
CALSCALE:GREGORIAN
X-WR-CALNAME:SVP Luzern
BEGIN:VEVENT
CREATED:20190112T055406Z
UID:10907
DTEND:20191022T213000
DTSTART:20191022T200000
DTSTAMP:20231024T054910Z
LOCATION:Gasthaus Sonne\, Sonnenplatz 1\, 6144 Zell
DESCRIPTION:Diese ausserordentliche Delegiertenversammlung findet statt!
SUMMARY:Ausserordentliche DV (2. Wahlgang SR)
ORGANIZER:SVP LU
URL;VALUE=URI:https://www.svp-lu.ch/termine/ausserordentliche-dv-2-wahlgang-sr/
TRANSP:OPAQUE
END:VEVENT
END:VCALENDAR
