BEGIN:VCALENDAR
VERSION:2.0
PRODID:-//SVP Luzern //NONSGML Events //EN
CALSCALE:GREGORIAN
X-WR-CALNAME:SVP Luzern
BEGIN:VEVENT
CREATED:20190112T055406Z
UID:10913
DTEND:20191114T220000
DTSTART:20191114T180000
DTSTAMP:20231024T055340Z
LOCATION:
DESCRIPTION:Abend
SUMMARY:Grossstadtratssitzung Luzern
ORGANIZER:
URL;VALUE=URI:https://www.svp-lu.ch/termine/grossstadtratssitzung-luzern-11/
TRANSP:OPAQUE
END:VEVENT
END:VCALENDAR
