BEGIN:VCALENDAR
VERSION:2.0
PRODID:-//SVP Luzern //NONSGML Events //EN
CALSCALE:GREGORIAN
X-WR-CALNAME:SVP Luzern
BEGIN:VEVENT
CREATED:20190112T055406Z
UID:10914
DTEND:20191114T000000
DTSTART:20191114T000000
DTSTAMP:20231024T055411Z
LOCATION:
DESCRIPTION:Abend
SUMMARY:-gestrichen-Sitzung Parteileitung 2019/11
ORGANIZER:SVP LU
URL;VALUE=URI:https://www.svp-lu.ch/termine/sitzung-parteileitung-2019-11/
TRANSP:OPAQUE
END:VEVENT
END:VCALENDAR
