BEGIN:VCALENDAR
VERSION:2.0
PRODID:-//SVP Luzern //NONSGML Events //EN
CALSCALE:GREGORIAN
X-WR-CALNAME:SVP Luzern
BEGIN:VEVENT
CREATED:20190112T055406Z
UID:10916
DTEND:20191127T190000
DTSTART:20191127T140000
DTSTAMP:20231024T054941Z
LOCATION:Bern
DESCRIPTION:Nachmittag
SUMMARY:Fraktionsvorstand/Fraktionssitzung
ORGANIZER:SVP CH
URL;VALUE=URI:https://www.svp-lu.ch/termine/fraktionsvorstand-fraktionssitzung-6/
TRANSP:OPAQUE
END:VEVENT
END:VCALENDAR
