BEGIN:VCALENDAR
VERSION:2.0
PRODID:-//SVP Luzern //NONSGML Events //EN
CALSCALE:GREGORIAN
X-WR-CALNAME:SVP Luzern
BEGIN:VEVENT
CREATED:20190112T055407Z
UID:10918
DTEND:20191220T000000
DTSTART:20191202T000000
DTSTAMP:20231024T054918Z
LOCATION:Bern
DESCRIPTION:
SUMMARY:Session National- und Ständerat
ORGANIZER:SVP CH
URL;VALUE=URI:https://www.svp-lu.ch/termine/session-national-und-staenderat-5/
TRANSP:OPAQUE
END:VEVENT
END:VCALENDAR
