BEGIN:VCALENDAR
VERSION:2.0
PRODID:-//SVP Luzern //NONSGML Events //EN
CALSCALE:GREGORIAN
X-WR-CALNAME:SVP Luzern
BEGIN:VEVENT
CREATED:20190112T055407Z
UID:10919
DTEND:20191203T000000
DTSTART:20191202T000000
DTSTAMP:20231024T060016Z
LOCATION:Luzern
DESCRIPTION:
SUMMARY:Session Kantonsrat
ORGANIZER:SVP LU
URL;VALUE=URI:https://www.svp-lu.ch/termine/session-kantonsrat-11/
TRANSP:OPAQUE
END:VEVENT
END:VCALENDAR
