BEGIN:VCALENDAR
VERSION:2.0
PRODID:-//SVP Luzern //NONSGML Events //EN
CALSCALE:GREGORIAN
X-WR-CALNAME:SVP Luzern
BEGIN:VEVENT
CREATED:20190112T055407Z
UID:10920
DTEND:20191203T100000
DTSTART:20191203T080000
DTSTAMP:20231024T054944Z
LOCATION:Luzern
DESCRIPTION:8.00 Uhr
SUMMARY:Gottesdienst Kantonsrat
ORGANIZER:SVP LU
URL;VALUE=URI:https://www.svp-lu.ch/termine/gottesdienst-kantonsrat/
TRANSP:OPAQUE
END:VEVENT
END:VCALENDAR
