BEGIN:VCALENDAR
VERSION:2.0
PRODID:-//SVP Luzern //NONSGML Events //EN
CALSCALE:GREGORIAN
X-WR-CALNAME:SVP Luzern
BEGIN:VEVENT
CREATED:20190112T055407Z
UID:10922
DTEND:20191211T180000
DTSTART:20191211T140000
DTSTAMP:20231024T055541Z
LOCATION:Bern
DESCRIPTION:
SUMMARY:Fraktionsessen
ORGANIZER:SVP CH
URL;VALUE=URI:https://www.svp-lu.ch/termine/fraktionsessen-2/
TRANSP:OPAQUE
END:VEVENT
END:VCALENDAR
