BEGIN:VCALENDAR
VERSION:2.0
PRODID:-//SVP Luzern //NONSGML Events //EN
CALSCALE:GREGORIAN
X-WR-CALNAME:SVP Luzern
BEGIN:VEVENT
CREATED:20190112T055407Z
UID:10923
DTEND:20191212T220000
DTSTART:20191212T193000
DTSTAMP:20231024T060107Z
LOCATION:Restaurant Vogelsang\, Eich
DESCRIPTION:Abend
SUMMARY:Sitzung Parteileitung 2019/12
ORGANIZER:SVP LU
URL;VALUE=URI:https://www.svp-lu.ch/termine/sitzung-parteileitung-2019-12/
TRANSP:OPAQUE
END:VEVENT
END:VCALENDAR
