BEGIN:VCALENDAR
VERSION:2.0
PRODID:-//SVP Luzern //NONSGML Events //EN
CALSCALE:GREGORIAN
X-WR-CALNAME:SVP Luzern
BEGIN:VEVENT
CREATED:20190112T055407Z
UID:10925
DTEND:20200105T000000
DTSTART:20191221T000000
DTSTAMP:20231024T060217Z
LOCATION:
DESCRIPTION:Weihnachtsferien
SUMMARY:Schulferien Kanton Luzern
ORGANIZER:Ferien
URL;VALUE=URI:https://www.svp-lu.ch/termine/schulferien-kanton-luzern-8/
TRANSP:OPAQUE
END:VEVENT
END:VCALENDAR
