BEGIN:VCALENDAR
VERSION:2.0
PRODID:-//SVP Luzern //NONSGML Events //EN
CALSCALE:GREGORIAN
X-WR-CALNAME:SVP Luzern
BEGIN:VEVENT
CREATED:20190112T055407Z
UID:10926
DTEND:20191224T000000
DTSTART:20191224T000000
DTSTAMP:20231024T055138Z
LOCATION:
DESCRIPTION:
SUMMARY:Heiliger Abend
ORGANIZER:Feiertag
URL;VALUE=URI:https://www.svp-lu.ch/termine/heiliger-abend/
TRANSP:OPAQUE
END:VEVENT
END:VCALENDAR
