BEGIN:VCALENDAR
VERSION:2.0
PRODID:-//SVP Luzern //NONSGML Events //EN
CALSCALE:GREGORIAN
X-WR-CALNAME:SVP Luzern
BEGIN:VEVENT
CREATED:20190112T055407Z
UID:10927
DTEND:20191225T000000
DTSTART:20191225T000000
DTSTAMP:20231024T055303Z
LOCATION:
DESCRIPTION:
SUMMARY:Weihnachten
ORGANIZER:Feiertag
URL;VALUE=URI:https://www.svp-lu.ch/termine/weihnachten/
TRANSP:OPAQUE
END:VEVENT
END:VCALENDAR
