BEGIN:VCALENDAR
VERSION:2.0
PRODID:-//SVP Luzern //NONSGML Events //EN
CALSCALE:GREGORIAN
X-WR-CALNAME:SVP Luzern
BEGIN:VEVENT
CREATED:20190122T053744Z
UID:11077
DTEND:20190125T143000
DTSTART:20190125T133000
DTSTAMP:20231024T060031Z
LOCATION:Magdalenenkirche Meggen
DESCRIPTION:Die Trauerfeier für Seppi Scherer findet am Freitag 25. Jan , 1330 h 
SUMMARY:Trauerfeier für Seppi Scherer
ORGANIZER:
URL;VALUE=URI:https://www.svp-lu.ch/termine/trauerfeier-fuer-seppi-scherer/
TRANSP:OPAQUE
END:VEVENT
END:VCALENDAR
