BEGIN:VCALENDAR
VERSION:2.0
PRODID:-//SVP Luzern //NONSGML Events //EN
CALSCALE:GREGORIAN
X-WR-CALNAME:SVP Luzern
BEGIN:VEVENT
CREATED:20190122T105804Z
UID:11105
DTEND:20190313T210000
DTSTART:20190313T193000
DTSTAMP:20231024T055841Z
LOCATION:Aula der Kantonsschule Sursee
DESCRIPTION:Die Regionalredaktion Zentralschweiz von Radio SRF wird am Mittwoch, 1
SUMMARY:Podiumsveranstaltung mit den RegierungskandidatInnen
ORGANIZER:Regionalredaktion Zentralschweiz von Radio SRF
URL;VALUE=URI:https://www.svp-lu.ch/termine/podiumsveranstaltung-mit-den-regierungskandidatinnen/
TRANSP:OPAQUE
END:VEVENT
END:VCALENDAR
