BEGIN:VCALENDAR
VERSION:2.0
PRODID:-//SVP Luzern //NONSGML Events //EN
CALSCALE:GREGORIAN
X-WR-CALNAME:SVP Luzern
BEGIN:VEVENT
CREATED:20190128T054354Z
UID:11297
DTEND:20190215T220000
DTSTART:20190215T200000
DTSTAMP:20231024T055815Z
LOCATION:Zentrum Linde\, Wauwil
DESCRIPTION:Flyer Wahlarena 15.02.2019 Wauwil
SUMMARY:Wahlarena in Wauwil
ORGANIZER:
URL;VALUE=URI:https://www.svp-lu.ch/termine/wahlarena-in-wauwil/
TRANSP:OPAQUE
END:VEVENT
END:VCALENDAR
