BEGIN:VCALENDAR
VERSION:2.0
PRODID:-//SVP Luzern //NONSGML Events //EN
CALSCALE:GREGORIAN
X-WR-CALNAME:SVP Luzern
BEGIN:VEVENT
CREATED:20190205T191056Z
UID:11400
DTEND:20190216T220000
DTSTART:20190216T193000
DTSTAMP:20231024T055527Z
LOCATION:Partyraum Roos\, Gewerbezone 59\, Buttisholz
DESCRIPTION:
SUMMARY:Raclette-Plausch in Buttisholz
ORGANIZER:Landwirtschaftskommission
URL;VALUE=URI:https://www.svp-lu.ch/termine/raclette-plausch-in-buttisholz/
TRANSP:OPAQUE
END:VEVENT
END:VCALENDAR
