BEGIN:VCALENDAR
VERSION:2.0
PRODID:-//SVP Luzern //NONSGML Events //EN
CALSCALE:GREGORIAN
X-WR-CALNAME:SVP Luzern
BEGIN:VEVENT
CREATED:20190209T101813Z
UID:11432
DTEND:20190311T213000
DTSTART:20190311T193000
DTSTAMP:20231024T060105Z
LOCATION:Forum Triengen
DESCRIPTION:Die OP Triengen-Winikon, Büron und Schlierbach führen am Montag, 11.
SUMMARY:Wahlveranstaltung OP Triengen &#8211\; Winikon &#8211\; Büron &#8211\; Schlierbach
ORGANIZER:OP Triengen - WInikon
URL;VALUE=URI:https://www.svp-lu.ch/termine/wahlveranstaltung-op-triengen-winikon-bueron-schlierbach/
TRANSP:OPAQUE
END:VEVENT
END:VCALENDAR
