BEGIN:VCALENDAR
VERSION:2.0
PRODID:-//SVP Luzern //NONSGML Events //EN
CALSCALE:GREGORIAN
X-WR-CALNAME:SVP Luzern
BEGIN:VEVENT
CREATED:20190217T223945Z
UID:11492
DTEND:20190315T213000
DTSTART:20190315T193000
DTSTAMP:20231024T055410Z
LOCATION:Drei König in Entlebuch
DESCRIPTION:Öffentlicher Anlass Referat mit offener Diskussion mit NR Andreas Aeb
SUMMARY:Referat mit offener Diskussion
ORGANIZER:SVP Entlebuch
URL;VALUE=URI:https://www.svp-lu.ch/termine/referat-mit-offener-diskussion/
TRANSP:OPAQUE
END:VEVENT
END:VCALENDAR
