BEGIN:VCALENDAR
VERSION:2.0
PRODID:-//SVP Luzern //NONSGML Events //EN
CALSCALE:GREGORIAN
X-WR-CALNAME:SVP Luzern
BEGIN:VEVENT
CREATED:20190218T235412Z
UID:11497
DTEND:20190320T180000
DTSTART:20190320T140000
DTSTAMP:20231024T055249Z
LOCATION:Bucher Transport Logistik AG Feldmattstrasse 31 CH-6032 Emmen
DESCRIPTION:
SUMMARY:Kant. Fraktionssitzung
ORGANIZER:SVP Stadt Luzern
URL;VALUE=URI:https://www.svp-lu.ch/termine/kant-fraktionssitzung-7/
TRANSP:OPAQUE
END:VEVENT
END:VCALENDAR
