BEGIN:VCALENDAR
VERSION:2.0
PRODID:-//SVP Luzern //NONSGML Events //EN
CALSCALE:GREGORIAN
X-WR-CALNAME:SVP Luzern
BEGIN:VEVENT
CREATED:20190220T114553Z
UID:11500
DTEND:20190307T210000
DTSTART:20190307T190000
DTSTAMP:20231024T060354Z
LOCATION:Hinterleisibach\, Aula\, 6033 Buchrain
DESCRIPTION:
SUMMARY:Podium in Buchrain
ORGANIZER:SVP Buchrain
URL;VALUE=URI:https://www.svp-lu.ch/termine/podium-in-buchrain/
TRANSP:OPAQUE
END:VEVENT
END:VCALENDAR
