BEGIN:VCALENDAR
VERSION:2.0
PRODID:-//SVP Luzern //NONSGML Events //EN
CALSCALE:GREGORIAN
X-WR-CALNAME:SVP Luzern
BEGIN:VEVENT
CREATED:20190214T091233Z
UID:11509
DTEND:20190222T193000
DTSTART:20190222T173000
DTSTAMP:20231024T055455Z
LOCATION:Städtli Willisau
DESCRIPTION:Die Bundeshaus-Fraktion inkl. den beiden SVP-Bundesräten hält sich i
SUMMARY:Politische Persönlichkeiten im Städtli Willisau. Ein unkompliziertes Zusammensein bei Wurst und Brot.
ORGANIZER:
URL;VALUE=URI:https://www.svp-lu.ch/termine/politische-persoenlichkeiten-im-staedtli-willisau-ein-unkompliziertes-zusammensein-bei-wurst-und-brot/
TRANSP:OPAQUE
END:VEVENT
END:VCALENDAR
