BEGIN:VCALENDAR
VERSION:2.0
PRODID:-//SVP Luzern //NONSGML Events //EN
CALSCALE:GREGORIAN
X-WR-CALNAME:SVP Luzern
BEGIN:VEVENT
CREATED:20190301T100817Z
UID:12410
DTEND:20190318T210000
DTSTART:20190318T190000
DTSTAMP:20231024T054900Z
LOCATION:Restaurant Eule\, 6048 Horw
DESCRIPTION:[gravityform id="7" title="true" description="true"]
SUMMARY:Info Veranstaltung Gemeinderäte HORW\, KRIENS\, EMMEN und Grossstadträte STADT LUZERN
ORGANIZER:SVP Kanton Luzern
URL;VALUE=URI:https://www.svp-lu.ch/termine/info-veranstaltung-gemeinderaete-horw-kriens-emmen-und-grossstadtraete-stadt-luzern/
TRANSP:OPAQUE
END:VEVENT
END:VCALENDAR
