BEGIN:VCALENDAR
VERSION:2.0
PRODID:-//SVP Luzern //NONSGML Events //EN
CALSCALE:GREGORIAN
X-WR-CALNAME:SVP Luzern
BEGIN:VEVENT
CREATED:20190320T090723Z
UID:12990
DTEND:20190331T210000
DTSTART:20190331T200000
DTSTAMP:20231024T055157Z
LOCATION:Bar Hotel Schweizerhof\, Schweizerhofquai 3\, 6002 Luzern
DESCRIPTION:
SUMMARY:Sessionsrückblick mit NR Yvette Estermann
ORGANIZER:
URL;VALUE=URI:https://www.svp-lu.ch/termine/sessionsrueckblick-mit-nr-yvette-estermann/
TRANSP:OPAQUE
END:VEVENT
END:VCALENDAR
